BEGIN:VCALENDAR
VERSION:2.0
PRODID:-//Pfarreiengemeinschaft Utting - Schondorf - ECPv6.15.17.1//NONSGML v1.0//EN
CALSCALE:GREGORIAN
METHOD:PUBLISH
X-WR-CALNAME:Pfarreiengemeinschaft Utting - Schondorf
X-ORIGINAL-URL:https://pg-utting.de
X-WR-CALDESC:Veranstaltungen für Pfarreiengemeinschaft Utting - Schondorf
REFRESH-INTERVAL;VALUE=DURATION:PT1H
X-Robots-Tag:noindex
X-PUBLISHED-TTL:PT1H
BEGIN:VTIMEZONE
TZID:Europe/Berlin
BEGIN:DAYLIGHT
TZOFFSETFROM:+0100
TZOFFSETTO:+0200
TZNAME:CEST
DTSTART:20250330T010000
END:DAYLIGHT
BEGIN:STANDARD
TZOFFSETFROM:+0200
TZOFFSETTO:+0100
TZNAME:CET
DTSTART:20251026T010000
END:STANDARD
BEGIN:DAYLIGHT
TZOFFSETFROM:+0100
TZOFFSETTO:+0200
TZNAME:CEST
DTSTART:20260329T010000
END:DAYLIGHT
BEGIN:STANDARD
TZOFFSETFROM:+0200
TZOFFSETTO:+0100
TZNAME:CET
DTSTART:20261025T010000
END:STANDARD
BEGIN:DAYLIGHT
TZOFFSETFROM:+0100
TZOFFSETTO:+0200
TZNAME:CEST
DTSTART:20270328T010000
END:DAYLIGHT
BEGIN:STANDARD
TZOFFSETFROM:+0200
TZOFFSETTO:+0100
TZNAME:CET
DTSTART:20271031T010000
END:STANDARD
END:VTIMEZONE
BEGIN:VEVENT
DTSTART;TZID=Europe/Berlin:20260201T180000
DTEND;TZID=Europe/Berlin:20260201T190000
DTSTAMP:20260426T041450
CREATED:20260119T100641Z
LAST-MODIFIED:20260123T095212Z
UID:34879-1769968800-1769972400@pg-utting.de
SUMMARY:Andacht: Spirit & Fire - Fun Food Fackeln
DESCRIPTION:Am Sonntag\, 01. Februar: herzliche Einladung zur Andacht um 18 Uhr in der Kirche St. Anna in Schondorf mit anschl. Fackelwanderung und Würstelgrillen am Lagerfeuer. \nFür Speisen ist gesorgt\, bitte Getränke selbst mitbringen. \n  \n 
URL:https://pg-utting.de/event/andacht-spirt-and-fire-fun-food-fackeln/
LOCATION:St. Anna\, Schondorf\, St.-Anna-Str. 27\, Schondorf am Ammersee\, Bayern\, 86938\, Deutschland
CATEGORIES:Aktuelle Information,Termine
ATTACH;FMTTYPE=image/png:https://pg-utting.de/wp-content/uploads/2026/01/Spirt-and-Fire.png
END:VEVENT
END:VCALENDAR