BEGIN:VCALENDAR
VERSION:2.0
PRODID:-//Pfarreiengemeinschaft Utting - Schondorf - ECPv6.15.17.1//NONSGML v1.0//EN
CALSCALE:GREGORIAN
METHOD:PUBLISH
X-WR-CALNAME:Pfarreiengemeinschaft Utting - Schondorf
X-ORIGINAL-URL:https://pg-utting.de
X-WR-CALDESC:Veranstaltungen für Pfarreiengemeinschaft Utting - Schondorf
REFRESH-INTERVAL;VALUE=DURATION:PT1H
X-Robots-Tag:noindex
X-PUBLISHED-TTL:PT1H
BEGIN:VTIMEZONE
TZID:Europe/Berlin
BEGIN:DAYLIGHT
TZOFFSETFROM:+0100
TZOFFSETTO:+0200
TZNAME:CEST
DTSTART:20250330T010000
END:DAYLIGHT
BEGIN:STANDARD
TZOFFSETFROM:+0200
TZOFFSETTO:+0100
TZNAME:CET
DTSTART:20251026T010000
END:STANDARD
BEGIN:DAYLIGHT
TZOFFSETFROM:+0100
TZOFFSETTO:+0200
TZNAME:CEST
DTSTART:20260329T010000
END:DAYLIGHT
BEGIN:STANDARD
TZOFFSETFROM:+0200
TZOFFSETTO:+0100
TZNAME:CET
DTSTART:20261025T010000
END:STANDARD
BEGIN:DAYLIGHT
TZOFFSETFROM:+0100
TZOFFSETTO:+0200
TZNAME:CEST
DTSTART:20270328T010000
END:DAYLIGHT
BEGIN:STANDARD
TZOFFSETFROM:+0200
TZOFFSETTO:+0100
TZNAME:CET
DTSTART:20271031T010000
END:STANDARD
END:VTIMEZONE
BEGIN:VEVENT
DTSTART;TZID=Europe/Berlin:20260208T103000
DTEND;TZID=Europe/Berlin:20260208T113000
DTSTAMP:20260426T002950
CREATED:20260123T081410Z
LAST-MODIFIED:20260123T081410Z
UID:35024-1770546600-1770550200@pg-utting.de
SUMMARY:Gottesdienst parallel dazu Kinderwortgottesdienst zum Fasching
DESCRIPTION:Am Sonntag\, 08. Februar findet parallel zum Gottesdienst in der Kirche Hl. Kreuz in Schondorf ein Kinderwortgottesdienst statt. Beginn ist um 10:30 Uhr in der Kirche. Die Kinder gehen dann gemeinsam in den Pfarrsaal. Kommt gerne im Faschingskostüm! Anschl. wird zum Kirchencafe im Pfarrsaal eingeladen.
URL:https://pg-utting.de/event/gottesdienst-parallel-dazu-kinderwortgottesdienst-zum-fasching/
LOCATION:Heilig Kreuz\, Schondorf\, Kirchberg 10\, Schondorf am Ammersee\, Bayern\, 86938\, Deutschland
CATEGORIES:Aktuelle Information,Termine
ATTACH;FMTTYPE=image/png:https://pg-utting.de/wp-content/uploads/2026/01/Fasching-2026.png
END:VEVENT
END:VCALENDAR