BEGIN:VCALENDAR
VERSION:2.0
PRODID:-//Pfarreiengemeinschaft Utting - Schondorf - ECPv6.15.17.1//NONSGML v1.0//EN
CALSCALE:GREGORIAN
METHOD:PUBLISH
X-WR-CALNAME:Pfarreiengemeinschaft Utting - Schondorf
X-ORIGINAL-URL:https://pg-utting.de
X-WR-CALDESC:Veranstaltungen für Pfarreiengemeinschaft Utting - Schondorf
REFRESH-INTERVAL;VALUE=DURATION:PT1H
X-Robots-Tag:noindex
X-PUBLISHED-TTL:PT1H
BEGIN:VTIMEZONE
TZID:Europe/Berlin
BEGIN:DAYLIGHT
TZOFFSETFROM:+0100
TZOFFSETTO:+0200
TZNAME:CEST
DTSTART:20250330T010000
END:DAYLIGHT
BEGIN:STANDARD
TZOFFSETFROM:+0200
TZOFFSETTO:+0100
TZNAME:CET
DTSTART:20251026T010000
END:STANDARD
BEGIN:DAYLIGHT
TZOFFSETFROM:+0100
TZOFFSETTO:+0200
TZNAME:CEST
DTSTART:20260329T010000
END:DAYLIGHT
BEGIN:STANDARD
TZOFFSETFROM:+0200
TZOFFSETTO:+0100
TZNAME:CET
DTSTART:20261025T010000
END:STANDARD
BEGIN:DAYLIGHT
TZOFFSETFROM:+0100
TZOFFSETTO:+0200
TZNAME:CEST
DTSTART:20270328T010000
END:DAYLIGHT
BEGIN:STANDARD
TZOFFSETFROM:+0200
TZOFFSETTO:+0100
TZNAME:CET
DTSTART:20271031T010000
END:STANDARD
END:VTIMEZONE
BEGIN:VEVENT
DTSTART;TZID=Europe/Berlin:20260415T180000
DTEND;TZID=Europe/Berlin:20260415T190000
DTSTAMP:20260421T125741
CREATED:20260410T084328Z
LAST-MODIFIED:20260410T090103Z
UID:37073-1776276000-1776279600@pg-utting.de
SUMMARY:Hl. Messe entfällt
DESCRIPTION:Am Mittwoch\, 15. April ENTFÄLLT die Hl. Messe um 18 Uhr in St. Leonhard \n 
URL:https://pg-utting.de/event/hl-messe-im-anschluss-anbetung-3/
LOCATION:St. Leonhard\, Utting\, Dießener Str. 14\, Utting\, Bayern\, 86919\, Deutschland
CATEGORIES:Aktuelle Information,Termine
END:VEVENT
END:VCALENDAR