BEGIN:VCALENDAR
VERSION:2.0
PRODID:-//Pfarreiengemeinschaft Utting - Schondorf - ECPv6.15.17.1//NONSGML v1.0//EN
CALSCALE:GREGORIAN
METHOD:PUBLISH
X-ORIGINAL-URL:https://pg-utting.de
X-WR-CALDESC:Veranstaltungen für Pfarreiengemeinschaft Utting - Schondorf
REFRESH-INTERVAL;VALUE=DURATION:PT1H
X-Robots-Tag:noindex
X-PUBLISHED-TTL:PT1H
BEGIN:VTIMEZONE
TZID:Europe/Berlin
BEGIN:DAYLIGHT
TZOFFSETFROM:+0100
TZOFFSETTO:+0200
TZNAME:CEST
DTSTART:20250330T010000
END:DAYLIGHT
BEGIN:STANDARD
TZOFFSETFROM:+0200
TZOFFSETTO:+0100
TZNAME:CET
DTSTART:20251026T010000
END:STANDARD
BEGIN:DAYLIGHT
TZOFFSETFROM:+0100
TZOFFSETTO:+0200
TZNAME:CEST
DTSTART:20260329T010000
END:DAYLIGHT
BEGIN:STANDARD
TZOFFSETFROM:+0200
TZOFFSETTO:+0100
TZNAME:CET
DTSTART:20261025T010000
END:STANDARD
BEGIN:DAYLIGHT
TZOFFSETFROM:+0100
TZOFFSETTO:+0200
TZNAME:CEST
DTSTART:20270328T010000
END:DAYLIGHT
BEGIN:STANDARD
TZOFFSETFROM:+0200
TZOFFSETTO:+0100
TZNAME:CET
DTSTART:20271031T010000
END:STANDARD
END:VTIMEZONE
BEGIN:VEVENT
DTSTART;TZID=Europe/Berlin:20260419T103000
DTEND;TZID=Europe/Berlin:20260419T113000
DTSTAMP:20260423T211508
CREATED:20260410T084853Z
LAST-MODIFIED:20260410T084853Z
UID:37087-1776594600-1776598200@pg-utting.de
SUMMARY:Erstkommunion Schondorf
DESCRIPTION:Am Sonntag\, dem 19. April findet um 10:30 Uhr die Feier der Erstkommunion in der Kirche Hl. Kreuz in Schondorf statt. Musikalisch wird der Gottesdienst durch den Jugendchor gestaltet.
URL:https://pg-utting.de/event/erstkommunion-schondorf-2/
LOCATION:Heilig Kreuz\, Schondorf\, Kirchberg 10\, Schondorf am Ammersee\, Bayern\, 86938\, Deutschland
CATEGORIES:Aktuelle Information,Termine
END:VEVENT
BEGIN:VEVENT
DTSTART;TZID=Europe/Berlin:20260419T200000
DTEND;TZID=Europe/Berlin:20260419T210000
DTSTAMP:20260423T211508
CREATED:20231126T133043Z
LAST-MODIFIED:20260410T084932Z
UID:15774-1776628800-1776632400@pg-utting.de
SUMMARY:Schondorfer Friedensgebet @ Schondorf\, St. Anna
DESCRIPTION:  \nJeden 19. des Monats um 20:00 Uhr in Schondorf\, St. Anna
URL:https://pg-utting.de/event/schondorfer-friedensgebet-schondorf-st-anna/
LOCATION:St. Anna\, Schondorf\, St.-Anna-Str. 27\, Schondorf am Ammersee\, Bayern\, 86938\, Deutschland
CATEGORIES:Aktuelle Information,Termine
ATTACH;FMTTYPE=image/jpeg:https://pg-utting.de/wp-content/uploads/2023/10/friedensgebethomepagekl.jpg
END:VEVENT
END:VCALENDAR