BEGIN:VCALENDAR
VERSION:2.0
PRODID:-//Pfarreiengemeinschaft Utting - Schondorf - ECPv6.15.17.1//NONSGML v1.0//EN
CALSCALE:GREGORIAN
METHOD:PUBLISH
X-ORIGINAL-URL:https://pg-utting.de
X-WR-CALDESC:Veranstaltungen für Pfarreiengemeinschaft Utting - Schondorf
REFRESH-INTERVAL;VALUE=DURATION:PT1H
X-Robots-Tag:noindex
X-PUBLISHED-TTL:PT1H
BEGIN:VTIMEZONE
TZID:Europe/Berlin
BEGIN:DAYLIGHT
TZOFFSETFROM:+0100
TZOFFSETTO:+0200
TZNAME:CEST
DTSTART:20250330T010000
END:DAYLIGHT
BEGIN:STANDARD
TZOFFSETFROM:+0200
TZOFFSETTO:+0100
TZNAME:CET
DTSTART:20251026T010000
END:STANDARD
BEGIN:DAYLIGHT
TZOFFSETFROM:+0100
TZOFFSETTO:+0200
TZNAME:CEST
DTSTART:20260329T010000
END:DAYLIGHT
BEGIN:STANDARD
TZOFFSETFROM:+0200
TZOFFSETTO:+0100
TZNAME:CET
DTSTART:20261025T010000
END:STANDARD
BEGIN:DAYLIGHT
TZOFFSETFROM:+0100
TZOFFSETTO:+0200
TZNAME:CEST
DTSTART:20270328T010000
END:DAYLIGHT
BEGIN:STANDARD
TZOFFSETFROM:+0200
TZOFFSETTO:+0100
TZNAME:CET
DTSTART:20271031T010000
END:STANDARD
END:VTIMEZONE
BEGIN:VEVENT
DTSTART;TZID=Europe/Berlin:20260422T143000
DTEND;TZID=Europe/Berlin:20260422T153000
DTSTAMP:20260423T211523
CREATED:20260415T104253Z
LAST-MODIFIED:20260415T104914Z
UID:37220-1776868200-1776871800@pg-utting.de
SUMMARY:Trauergottesdienst
DESCRIPTION:Am 22. April findet um 14:30 Uhr der Trauergottesdienst für Herrn Simon Satzger in der Kirche St. Anna in Schondorf  statt. Anschl. Bestattung auf dem Friedhof.
URL:https://pg-utting.de/event/trauergottesdienst-34/
LOCATION:St. Anna\, Schondorf\, St.-Anna-Str. 27\, Schondorf am Ammersee\, Bayern\, 86938\, Deutschland
CATEGORIES:Aktuelle Information,Termine
END:VEVENT
BEGIN:VEVENT
DTSTART;TZID=Europe/Berlin:20260422T180000
DTEND;TZID=Europe/Berlin:20260422T183000
DTSTAMP:20260423T211523
CREATED:20260415T103720Z
LAST-MODIFIED:20260415T104828Z
UID:37216-1776880800-1776882600@pg-utting.de
SUMMARY:Messe entfällt
DESCRIPTION:Am Mittwoch\, 22. April ENTFÄLLT die Hl. Messe um 18 Uhr in St. Leonhard Utting.
URL:https://pg-utting.de/event/messe-entfaellt-25/
LOCATION:St. Leonhard\, Utting\, Dießener Str. 14\, Utting\, Bayern\, 86919\, Deutschland
END:VEVENT
END:VCALENDAR